BEGIN:VCALENDAR
VERSION:2.0
PRODID:-//OmniMagnetCalendar//EN
BEGIN:VEVENT
DTSTAMP:20190625T195740Z
STATUS:CONFIRMED
UID:hcresearchtriangle.clubs.harvard.edu709
DTSTART:20260830T170000Z
DTEND:20260830T200000Z
LOCATION:Durham Bulls Athletic Park, 409 Blackwell St, , Durham, NC,  27701, United States,
SUMMARY:Ivy+ at the Durham Bulls
DESCRIPTION:Join friends from Harvard and the Ivy+ Network at our annual Durham Bulls game - we will have a patio with full buffet as always.
BEGIN:VALARM
TRIGGER:-PT15M
ACTION:DISPLAY
END:VALARM
TRANSP:OPAQUE
END:VEVENT
END:VCALENDAR
