BEGIN:VCALENDAR
VERSION:2.0
PRODID:-//OmniMagnetCalendar//EN
BEGIN:VEVENT
DTSTAMP:20190625T195740Z
STATUS:CONFIRMED
UID:hcresearchtriangle.clubs.harvard.edu464
DTSTART:20170927T120000Z
DTEND:20170927T130000Z
LOCATION:RTP Conference Center, 12 Davis Drive, Durham, NC, 27709,
SUMMARY:Ivy Plus Event: Stanford Club Quarterly Breakfast Series - Strategies for Displacing Oil
DESCRIPTION:The Stanford Alumni Club of North Carolina would like to invite our fellow IVY PLUS colleagues and their guests to join us at their next quarterly breakfast presentation on September 27th. The topic will be "Strategies for Displacing Oil".
BEGIN:VALARM
TRIGGER:-PT15M
ACTION:DISPLAY
END:VALARM
TRANSP:OPAQUE
END:VEVENT
END:VCALENDAR
